BEGIN:VCALENDAR
VERSION:2.0
PRODID:-//Topsy Turvy Brewery - ECPv6.15.14//NONSGML v1.0//EN
CALSCALE:GREGORIAN
METHOD:PUBLISH
X-ORIGINAL-URL:https://www.topsyturvybrewery.com
X-WR-CALDESC:Events for Topsy Turvy Brewery
REFRESH-INTERVAL;VALUE=DURATION:PT1H
X-Robots-Tag:noindex
X-PUBLISHED-TTL:PT1H
BEGIN:VTIMEZONE
TZID:America/Chicago
BEGIN:DAYLIGHT
TZOFFSETFROM:-0600
TZOFFSETTO:-0500
TZNAME:CDT
DTSTART:20210314T080000
END:DAYLIGHT
BEGIN:STANDARD
TZOFFSETFROM:-0500
TZOFFSETTO:-0600
TZNAME:CST
DTSTART:20211107T070000
END:STANDARD
BEGIN:DAYLIGHT
TZOFFSETFROM:-0600
TZOFFSETTO:-0500
TZNAME:CDT
DTSTART:20220313T080000
END:DAYLIGHT
BEGIN:STANDARD
TZOFFSETFROM:-0500
TZOFFSETTO:-0600
TZNAME:CST
DTSTART:20221106T070000
END:STANDARD
BEGIN:DAYLIGHT
TZOFFSETFROM:-0600
TZOFFSETTO:-0500
TZNAME:CDT
DTSTART:20230312T080000
END:DAYLIGHT
BEGIN:STANDARD
TZOFFSETFROM:-0500
TZOFFSETTO:-0600
TZNAME:CST
DTSTART:20231105T070000
END:STANDARD
END:VTIMEZONE
BEGIN:VEVENT
DTSTART;TZID=America/Chicago:20220319T160000
DTEND;TZID=America/Chicago:20220319T180000
DTSTAMP:20260423T012911
CREATED:20220216T000727Z
LAST-MODIFIED:20220216T000727Z
UID:3695-1647705600-1647712800@www.topsyturvybrewery.com
SUMMARY:The Streets of Lake Geneva Shamrock Shuffle 5K Post Party
DESCRIPTION:https://runsignup.com/Race/WI/LakeGeneva/TheStreetsofLakeGenevaShamrockShuffle5K \nJoin your fellow St. Patricks Day revelers for a 5k walk or run to support the Streets of Lake Geneva and do something healthy for yourself! \nThis is a VIRTUAL RACE but will have lots of community engagement and a post race awards & party! Register anytime starting now! \nStart and finish the race anytime between Friday March 11th and Saturday March 19th as you’ll want to wear your T-shirt which can be picked up starting March 11th at Topsy Turvy. \nShow up at Topsy Turvy for a Post Race party on Saturday\, March 19th from 4-6pm to celebrate. \nCome on out and have a fun night with us at Topsy Turvy Brewery! We can’t wait to see you. Cheers!
URL:https://www.topsyturvybrewery.com/event/the-streets-of-lake-geneva-shamrock-shuffle-5k-post-party/
LOCATION:Topsy Turvy Brewery\, 727 Geneva St\, Lake Geneva\, 53147\, United States
CATEGORIES:Live Music
ATTACH;FMTTYPE=image/jpeg:https://www.topsyturvybrewery.com/wp-content/uploads/2022/02/shamrock-shuffle.jpg
ORGANIZER;CN="Topsy Turvy Brewery":MAILTO:info@topsyturvybrewery.com
END:VEVENT
BEGIN:VEVENT
DTSTART;TZID=America/Chicago:20220319T180000
DTEND;TZID=America/Chicago:20220319T220000
DTSTAMP:20260423T012911
CREATED:20220216T000249Z
LAST-MODIFIED:20220216T000249Z
UID:3693-1647712800-1647727200@www.topsyturvybrewery.com
SUMMARY:Big Al Wetzel Band at Topsy Turvy St. Patrick's Weekend Celebration
DESCRIPTION:Big Al Wetzel Band is playing at Topsy Turvy Brewery from 6-10p! \nWe will be partying in the tented Beer Garden as long as the weather permits! \nTaproom and Beer Garden will be open with a wide variety of festive beers including Peg O’ My Heart Red Ale. \nCorned Beef and Cabbage will be available during the event as well. \nCome on out and have a fun night with us at Topsy Turvy Brewery! We can’t wait to see you. Cheers!
URL:https://www.topsyturvybrewery.com/event/big-al-wetzel-band-at-topsy-turvy-st-patricks/
LOCATION:Topsy Turvy Brewery\, 727 Geneva St\, Lake Geneva\, 53147\, United States
CATEGORIES:Live Music
ATTACH;FMTTYPE=image/jpeg:https://www.topsyturvybrewery.com/wp-content/uploads/2022/02/TTB-WEBSITE-EVENT-GRAPHIC-960-×-726-px.jpg
ORGANIZER;CN="Topsy Turvy Brewery":MAILTO:info@topsyturvybrewery.com
END:VEVENT
END:VCALENDAR