BEGIN:VCALENDAR
VERSION:2.0
PRODID:-//Topsy Turvy Brewery - ECPv6.15.14//NONSGML v1.0//EN
CALSCALE:GREGORIAN
METHOD:PUBLISH
X-ORIGINAL-URL:https://www.topsyturvybrewery.com
X-WR-CALDESC:Events for Topsy Turvy Brewery
REFRESH-INTERVAL;VALUE=DURATION:PT1H
X-Robots-Tag:noindex
X-PUBLISHED-TTL:PT1H
BEGIN:VTIMEZONE
TZID:America/Chicago
BEGIN:DAYLIGHT
TZOFFSETFROM:-0600
TZOFFSETTO:-0500
TZNAME:CDT
DTSTART:20210314T080000
END:DAYLIGHT
BEGIN:STANDARD
TZOFFSETFROM:-0500
TZOFFSETTO:-0600
TZNAME:CST
DTSTART:20211107T070000
END:STANDARD
BEGIN:DAYLIGHT
TZOFFSETFROM:-0600
TZOFFSETTO:-0500
TZNAME:CDT
DTSTART:20220313T080000
END:DAYLIGHT
BEGIN:STANDARD
TZOFFSETFROM:-0500
TZOFFSETTO:-0600
TZNAME:CST
DTSTART:20221106T070000
END:STANDARD
BEGIN:DAYLIGHT
TZOFFSETFROM:-0600
TZOFFSETTO:-0500
TZNAME:CDT
DTSTART:20230312T080000
END:DAYLIGHT
BEGIN:STANDARD
TZOFFSETFROM:-0500
TZOFFSETTO:-0600
TZNAME:CST
DTSTART:20231105T070000
END:STANDARD
END:VTIMEZONE
BEGIN:VEVENT
DTSTART;TZID=America/Chicago:20220317T160000
DTEND;TZID=America/Chicago:20220317T200000
DTSTAMP:20260423T012854
CREATED:20220215T235735Z
LAST-MODIFIED:20220215T235840Z
UID:3687-1647532800-1647547200@www.topsyturvybrewery.com
SUMMARY:Brido Band at Topsy Turvy St. Patrick's Weekend Celebration
DESCRIPTION:Let’s kick off our St. Patrick’s Day Celebration with Brido Band! \nLive music from 4-8p! \nTaproom and Beer Garden will be open with a wide variety of festive beers including Peg O’ My Heart Red Ale. \nCorned Beef and Cabbage will be available during the event as well. \nCome on out and have a fun night with us at Topsy Turvy Brewery! We can’t wait to see you. Cheers!
URL:https://www.topsyturvybrewery.com/event/brido-band-at-topsy-turvy-st-patricks-weekend-celebration/
LOCATION:Topsy Turvy Brewery\, 727 Geneva St\, Lake Geneva\, 53147\, United States
CATEGORIES:Live Music
ATTACH;FMTTYPE=image/jpeg:https://www.topsyturvybrewery.com/wp-content/uploads/2022/02/TTB-WEBSITE-EVENT-GRAPHIC-960-×-726-px.jpg
ORGANIZER;CN="Topsy Turvy Brewery":MAILTO:info@topsyturvybrewery.com
END:VEVENT
END:VCALENDAR