BEGIN:VCALENDAR
VERSION:2.0
PRODID:-//Topsy Turvy Brewery - ECPv6.15.14//NONSGML v1.0//EN
CALSCALE:GREGORIAN
METHOD:PUBLISH
X-WR-CALNAME:Topsy Turvy Brewery
X-ORIGINAL-URL:http://www.topsyturvybrewery.com
X-WR-CALDESC:Events for Topsy Turvy Brewery
REFRESH-INTERVAL;VALUE=DURATION:PT1H
X-Robots-Tag:noindex
X-PUBLISHED-TTL:PT1H
BEGIN:VTIMEZONE
TZID:America/Chicago
BEGIN:DAYLIGHT
TZOFFSETFROM:-0600
TZOFFSETTO:-0500
TZNAME:CDT
DTSTART:20230312T080000
END:DAYLIGHT
BEGIN:STANDARD
TZOFFSETFROM:-0500
TZOFFSETTO:-0600
TZNAME:CST
DTSTART:20231105T070000
END:STANDARD
BEGIN:DAYLIGHT
TZOFFSETFROM:-0600
TZOFFSETTO:-0500
TZNAME:CDT
DTSTART:20240310T080000
END:DAYLIGHT
BEGIN:STANDARD
TZOFFSETFROM:-0500
TZOFFSETTO:-0600
TZNAME:CST
DTSTART:20241103T070000
END:STANDARD
BEGIN:DAYLIGHT
TZOFFSETFROM:-0600
TZOFFSETTO:-0500
TZNAME:CDT
DTSTART:20250309T080000
END:DAYLIGHT
BEGIN:STANDARD
TZOFFSETFROM:-0500
TZOFFSETTO:-0600
TZNAME:CST
DTSTART:20251102T070000
END:STANDARD
END:VTIMEZONE
BEGIN:VEVENT
DTSTART;TZID=America/Chicago:20241129T110000
DTEND;TZID=America/Chicago:20241129T210000
DTSTAMP:20260422T060340
CREATED:20241025T211354Z
LAST-MODIFIED:20241129T032107Z
UID:5378-1732878000-1732914000@www.topsyturvybrewery.com
SUMMARY:Black Friday Beer Release
DESCRIPTION:Black Friday Specials with Topsy Turvy Brewery.\nStop on in to check out our two new beers being released on Black Friday! Enjoy nice hot chili and crowler specials.\n\nGrant Milliren will start play will start at 6pm and go until 9:00pm. There will be beer flowing until 30 minutes before close. Beer is not your thing? Well we also serve wine and nonalcoholic drinks. \n\nDon’t forget to try our Roman style pizza or order a Milwaukee Pretzel.\n\n\nCome on out and have a fun night with us at Topsy Turvy Brewery! We can’t wait to see you. Cheers!
URL:http://www.topsyturvybrewery.com/event/black-friday-release/
LOCATION:Topsy Turvy Brewery\, 727 Geneva St\, Lake Geneva\, 53147\, United States
CATEGORIES:Live Music,Special Events
ATTACH;FMTTYPE=image/png:http://www.topsyturvybrewery.com/wp-content/uploads/2024/11/New-Beer-Release-Instagram-Post.png
ORGANIZER;CN="Topsy Turvy Brewery":MAILTO:info@topsyturvybrewery.com
END:VEVENT
END:VCALENDAR